BEGIN:VCALENDAR
VERSION:2.0
PRODID:-//Uintah Spinal Health - ECPv6.15.20//NONSGML v1.0//EN
CALSCALE:GREGORIAN
METHOD:PUBLISH
X-WR-CALNAME:Uintah Spinal Health
X-ORIGINAL-URL:https://www.uintahspinalhealth.com
X-WR-CALDESC:Events for Uintah Spinal Health
REFRESH-INTERVAL;VALUE=DURATION:PT1H
X-Robots-Tag:noindex
X-PUBLISHED-TTL:PT1H
BEGIN:VTIMEZONE
TZID:America/Denver
BEGIN:DAYLIGHT
TZOFFSETFROM:-0700
TZOFFSETTO:-0600
TZNAME:MDT
DTSTART:20250309T090000
END:DAYLIGHT
BEGIN:STANDARD
TZOFFSETFROM:-0600
TZOFFSETTO:-0700
TZNAME:MST
DTSTART:20251102T080000
END:STANDARD
BEGIN:DAYLIGHT
TZOFFSETFROM:-0700
TZOFFSETTO:-0600
TZNAME:MDT
DTSTART:20260308T090000
END:DAYLIGHT
BEGIN:STANDARD
TZOFFSETFROM:-0600
TZOFFSETTO:-0700
TZNAME:MST
DTSTART:20261101T080000
END:STANDARD
BEGIN:DAYLIGHT
TZOFFSETFROM:-0700
TZOFFSETTO:-0600
TZNAME:MDT
DTSTART:20270314T090000
END:DAYLIGHT
BEGIN:STANDARD
TZOFFSETFROM:-0600
TZOFFSETTO:-0700
TZNAME:MST
DTSTART:20271107T080000
END:STANDARD
END:VTIMEZONE
BEGIN:VEVENT
DTSTART;TZID=America/Denver:20260423T170000
DTEND;TZID=America/Denver:20260423T180000
DTSTAMP:20260424T093810
CREATED:20260414T165901Z
LAST-MODIFIED:20260414T165901Z
UID:8572-1776963600-1776967200@www.uintahspinalhealth.com
SUMMARY:Golfer's Lower Back Pain Workshop-Back 9 Orem
DESCRIPTION:Struggling with lower back pain that’s affecting your swing\, distance\, or consistency? You’re not alone—and more importantly\, it’s fixable. \nJoin us at Back 9 Golf Simulator in Orem for a hands-on workshop focused on helping golfers understand\, prevent\, and overcome lower back pain using proven TPI (Titleist Performance Institute) principles. \nIn this session\, you’ll learn: \n\nWhy lower back pain is so common in golfers\nHow your swing mechanics may be contributing to pain\nKey mobility and stability issues that lead to injury\nSimple\, golf-specific exercises to improve performance and reduce pain\nHow to build a more efficient\, pain-free swing\n\nThese are not just theories. The concepts we teach are tried and tested—used daily with local golfers ranging from beginners to competitive players\, and trusted at the highest level\, including Dr Jared Wadsworth’s current work on the PGA Tour. \nThis isn’t just a lecture—you’ll walk away with practical tools you can immediately apply to your game. \nWhether you’re currently dealing with pain or want to stay ahead of it\, this workshop is designed to help you play longer\, swing better\, and feel your best on the course. \nSpots are limited—reserve yours today!
URL:https://www.uintahspinalhealth.com/event/golfers-lower-back-pain-workshop-back-9-orem/
LOCATION:Back 9- Orem\, UT\, 865 S 700 E\, Orem\, UT\, 84097\, United States
ATTACH;FMTTYPE=image/jpeg:https://www.uintahspinalhealth.com/wp-content/uploads/2024/04/DSC06401-2-scaled.jpeg
ORGANIZER;CN="Uintah Spinal Health":MAILTO:ushreception@gmail.com
END:VEVENT
END:VCALENDAR